Package: tissueTreg Version: 1.31.0 Command: /home/biocbuild/bbs-3.23-bioc/R/bin/R CMD build --keep-empty-dirs --no-resave-data tissueTreg StartedAt: 2025-11-06 11:46:23 -0500 (Thu, 06 Nov 2025) EndedAt: 2025-11-06 11:47:54 -0500 (Thu, 06 Nov 2025) EllapsedTime: 91.2 seconds RetCode: 0 Status: OK PackageFile: tissueTreg_1.31.0.tar.gz PackageFileSize: 684.6 KiB