Package: tissueTreg Version: 1.31.0 Maintainer: Charles Imbusch MaintainerEmail: c.imbusch at dkfz.de git_url: https://git.bioconductor.org/packages/tissueTreg git_branch: devel git_last_commit: 86ffe39 git_last_commit_date: 2025-10-29 10:00:08 -0500 (Wed, 29 Oct 2025)