Package: tinesath1probe Version: 1.49.0 Maintainer: Tine Casneuf MaintainerEmail: tine at ebi.ac.uk git_url: https://git.bioconductor.org/packages/tinesath1probe git_branch: devel git_last_commit: 4cc0c14 git_last_commit_date: 2025-10-29 09:31:14 -0500 (Wed, 29 Oct 2025)