Package: timecoursedata Version: 1.21.0 Maintainer: Nelle Varoquaux MaintainerEmail: nelle.varoquaux at gmail.com git_url: https://git.bioconductor.org/packages/timecoursedata git_branch: devel git_last_commit: 6d9c28b git_last_commit_date: 2025-10-29 10:02:47 -0500 (Wed, 29 Oct 2025)