Package: tartare Version: 1.25.0 Maintainer: Christian Panse MaintainerEmail: cp at fgcz.ethz.ch git_url: https://git.bioconductor.org/packages/tartare git_branch: devel git_last_commit: c5a3b3e git_last_commit_date: 2025-10-29 10:02:06 -0500 (Wed, 29 Oct 2025)