Package: stemHypoxia Version: 1.47.0 Maintainer: Cristobal Fresno MaintainerEmail: cristobalfresno at gmail.com git_url: https://git.bioconductor.org/packages/stemHypoxia git_branch: devel git_last_commit: 8a6a2bc git_last_commit_date: 2025-10-29 09:33:36 -0500 (Wed, 29 Oct 2025)