Package: spqnData Version: 1.23.0 Maintainer: Yi Wang MaintainerEmail: yiwangthu5 at gmail.com git_url: https://git.bioconductor.org/packages/spqnData git_branch: devel git_last_commit: 0223aed git_last_commit_date: 2025-10-29 10:02:28 -0500 (Wed, 29 Oct 2025)