Package: spatialLIBD Version: 1.23.0 Command: /home/biocbuild/bbs-3.23-bioc/R/bin/R CMD INSTALL spatialLIBD StartedAt: 2025-11-06 11:02:18 -0500 (Thu, 06 Nov 2025) EndedAt: 2025-11-06 11:03:04 -0500 (Thu, 06 Nov 2025) EllapsedTime: 46.0 seconds RetCode: 0 Status: OK