Package: smokingMouse Version: 1.9.0 Maintainer: Daianna Gonzalez-Padilla MaintainerEmail: glezdaianna at gmail.com git_url: https://git.bioconductor.org/packages/smokingMouse git_branch: devel git_last_commit: aa15da1 git_last_commit_date: 2025-10-29 10:05:50 -0500 (Wed, 29 Oct 2025)