Package: signatureSearchData Version: 1.25.0 Command: /home/biocbuild/bbs-3.23-bioc/R/bin/R CMD check --install=check:signatureSearchData.install-out.txt --library=/home/biocbuild/bbs-3.23-bioc/R/site-library --timings signatureSearchData_1.25.0.tar.gz StartedAt: 2025-11-18 13:06:46 -0500 (Tue, 18 Nov 2025) EndedAt: 2025-11-18 13:08:01 -0500 (Tue, 18 Nov 2025) EllapsedTime: 75.3 seconds RetCode: 0 Status: OK CheckDir: signatureSearchData.Rcheck Warnings: 0