Package: seventyGeneData Version: 1.47.0 Maintainer: Luigi Marchionni MaintainerEmail: lum403 at med.cornell.edu git_url: https://git.bioconductor.org/packages/seventyGeneData git_branch: devel git_last_commit: e1754b9 git_last_commit_date: 2025-10-29 09:53:36 -0500 (Wed, 29 Oct 2025)