Package: sesameData Version: 1.29.1 Maintainer: Wanding Zhou MaintainerEmail: zhouwanding at gmail.com git_url: https://git.bioconductor.org/packages/sesameData git_branch: devel git_last_commit: 6ec5de6 git_last_commit_date: 2025-11-02 20:50:11 -0500 (Sun, 02 Nov 2025)