Package: serumStimulation Version: 1.47.0 Maintainer: Morten Hansen, MaintainerEmail: mhansen at sund.ku.dk git_url: https://git.bioconductor.org/packages/serumStimulation git_branch: devel git_last_commit: f367b6d git_last_commit_date: 2025-10-29 09:32:58 -0500 (Wed, 29 Oct 2025)