Package: seqc Version: 1.45.0 Command: /home/biocbuild/bbs-3.23-bioc/R/bin/R CMD INSTALL seqc StartedAt: 2025-11-06 10:56:07 -0500 (Thu, 06 Nov 2025) EndedAt: 2025-11-06 10:57:59 -0500 (Thu, 06 Nov 2025) EllapsedTime: 111.8 seconds RetCode: 0 Status: OK