Package: seqc Version: 1.45.0 Maintainer: Yang Liao and Wei Shi MaintainerEmail: Wei.Shi at onjcri.org.au git_url: https://git.bioconductor.org/packages/seqc git_branch: devel git_last_commit: 08452f4 git_last_commit_date: 2025-10-29 09:55:54 -0500 (Wed, 29 Oct 2025)