Package: scanMiRData Version: 1.17.0 Command: /home/biocbuild/bbs-3.23-bioc/R/bin/R CMD check --install=check:scanMiRData.install-out.txt --library=/home/biocbuild/bbs-3.23-bioc/R/site-library --timings scanMiRData_1.17.0.tar.gz StartedAt: 2025-11-06 12:57:46 -0500 (Thu, 06 Nov 2025) EndedAt: 2025-11-06 12:59:41 -0500 (Thu, 06 Nov 2025) EllapsedTime: 114.9 seconds RetCode: 0 Status: OK CheckDir: scanMiRData.Rcheck Warnings: 0