Package: scATAC.Explorer Version: 1.17.0 Command: /home/biocbuild/bbs-3.23-bioc/R/bin/R CMD check --install=check:scATAC.Explorer.install-out.txt --library=/home/biocbuild/bbs-3.23-bioc/R/site-library --timings scATAC.Explorer_1.17.0.tar.gz StartedAt: 2025-11-25 13:02:07 -0500 (Tue, 25 Nov 2025) EndedAt: 2025-11-25 14:22:07 -0500 (Tue, 25 Nov 2025) EllapsedTime: 4800.0 seconds RetCode: None Status: TIMEOUT CheckDir: scATAC.Explorer.Rcheck Warnings: NA