Package: sampleClassifierData Version: 1.35.0 Maintainer: Khadija El Amrani MaintainerEmail: khadija.el-amrani at charite.de git_url: https://git.bioconductor.org/packages/sampleClassifierData git_branch: devel git_last_commit: d26958c git_last_commit_date: 2025-10-29 10:03:05 -0500 (Wed, 29 Oct 2025)