Package: rheumaticConditionWOLLBOLD Version: 1.49.0 Maintainer: Alejandro Quiroz-Zarate MaintainerEmail: aquiroz at hsph.harvard.edu git_url: https://git.bioconductor.org/packages/rheumaticConditionWOLLBOLD git_branch: devel git_last_commit: c9232dc git_last_commit_date: 2025-10-29 09:33:00 -0500 (Wed, 29 Oct 2025)