Package: raerdata Version: 1.9.0 Command: /home/biocbuild/bbs-3.23-bioc/R/bin/R CMD build --keep-empty-dirs --no-resave-data raerdata StartedAt: 2025-11-06 11:36:53 -0500 (Thu, 06 Nov 2025) EndedAt: 2025-11-06 11:38:24 -0500 (Thu, 06 Nov 2025) EllapsedTime: 90.4 seconds RetCode: 0 Status: OK PackageFile: raerdata_1.9.0.tar.gz PackageFileSize: 245.8 KiB