Package: raerdata Version: 1.9.0 Maintainer: Kent Riemondy MaintainerEmail: kent.riemondy at cuanschutz.edu git_url: https://git.bioconductor.org/packages/raerdata git_branch: devel git_last_commit: 49e691c git_last_commit_date: 2025-10-29 10:06:03 -0500 (Wed, 29 Oct 2025)