Package: qPLEXdata Version: 1.29.0 Command: /home/biocbuild/bbs-3.23-bioc/R/bin/R CMD INSTALL qPLEXdata StartedAt: 2025-11-06 11:01:58 -0500 (Thu, 06 Nov 2025) EndedAt: 2025-11-06 11:02:35 -0500 (Thu, 06 Nov 2025) EllapsedTime: 36.5 seconds RetCode: 0 Status: OK