Package: qPLEXdata Version: 1.29.0 Command: /home/biocbuild/bbs-3.23-bioc/R/bin/R CMD build --keep-empty-dirs --no-resave-data qPLEXdata StartedAt: 2025-11-06 11:36:46 -0500 (Thu, 06 Nov 2025) EndedAt: 2025-11-06 11:37:37 -0500 (Thu, 06 Nov 2025) EllapsedTime: 51.1 seconds RetCode: 1 Status: ERROR PackageFile: None PackageFileSize: NA