Package: qPLEXdata Version: 1.29.0 Maintainer: Kamal Kishore Developer MaintainerEmail: kamal.fartiyal84 at gmail.com git_url: https://git.bioconductor.org/packages/qPLEXdata git_branch: devel git_last_commit: dc38cbb git_last_commit_date: 2025-10-29 10:00:25 -0500 (Wed, 29 Oct 2025)