Package: pumadata Version: 2.47.0 Command: /home/biocbuild/bbs-3.23-bioc/R/bin/R CMD check --install=check:pumadata.install-out.txt --library=/home/biocbuild/bbs-3.23-bioc/R/site-library --timings pumadata_2.47.0.tar.gz StartedAt: 2025-11-06 12:48:53 -0500 (Thu, 06 Nov 2025) EndedAt: 2025-11-06 12:52:21 -0500 (Thu, 06 Nov 2025) EllapsedTime: 207.9 seconds RetCode: 0 Status: OK CheckDir: pumadata.Rcheck Warnings: 0