Package: ptairData Version: 1.19.0 Command: /home/biocbuild/bbs-3.23-bioc/R/bin/R CMD INSTALL ptairData StartedAt: 2025-11-20 10:56:05 -0500 (Thu, 20 Nov 2025) EndedAt: 2025-11-20 10:56:06 -0500 (Thu, 20 Nov 2025) EllapsedTime: 1.5 seconds RetCode: 0 Status: OK