Package: ptairData Version: 1.19.0 Command: /home/biocbuild/bbs-3.23-bioc/R/bin/R CMD build --keep-empty-dirs --no-resave-data ptairData StartedAt: 2025-11-20 11:38:07 -0500 (Thu, 20 Nov 2025) EndedAt: 2025-11-20 11:38:17 -0500 (Thu, 20 Nov 2025) EllapsedTime: 10.0 seconds RetCode: 0 Status: OK PackageFile: ptairData_1.19.0.tar.gz PackageFileSize: 53.1 MiB