Package: prostateCancerTaylor Version: 1.39.0 Command: /home/biocbuild/bbs-3.23-bioc/R/bin/R CMD INSTALL prostateCancerTaylor StartedAt: 2025-11-06 10:56:06 -0500 (Thu, 06 Nov 2025) EndedAt: 2025-11-06 10:56:15 -0500 (Thu, 06 Nov 2025) EllapsedTime: 9.5 seconds RetCode: 0 Status: OK