Package: prostateCancerStockholm Version: 1.39.0 Maintainer: Mark Dunning MaintainerEmail: mark.dunning at cruk.cam.ac.uk git_url: https://git.bioconductor.org/packages/prostateCancerStockholm git_branch: devel git_last_commit: 55b3527 git_last_commit_date: 2025-10-29 09:57:58 -0500 (Wed, 29 Oct 2025)