Package: prostateCancerCamcap Version: 1.39.0 Command: /home/biocbuild/bbs-3.23-bioc/R/bin/R CMD INSTALL prostateCancerCamcap StartedAt: 2025-11-06 10:56:08 -0500 (Thu, 06 Nov 2025) EndedAt: 2025-11-06 10:56:25 -0500 (Thu, 06 Nov 2025) EllapsedTime: 16.6 seconds RetCode: 0 Status: OK