Package: prostateCancerCamcap Version: 1.39.0 Maintainer: Mark Dunning MaintainerEmail: mark.dunning at cruk.cam.ac.uk git_url: https://git.bioconductor.org/packages/prostateCancerCamcap git_branch: devel git_last_commit: 0f9a8b4 git_last_commit_date: 2025-10-29 09:57:53 -0500 (Wed, 29 Oct 2025)