Package: preciseTADhub Version: 1.19.0 Command: /home/biocbuild/bbs-3.23-bioc/R/bin/R CMD check --install=check:preciseTADhub.install-out.txt --library=/home/biocbuild/bbs-3.23-bioc/R/site-library --timings preciseTADhub_1.19.0.tar.gz StartedAt: 2025-11-06 12:47:47 -0500 (Thu, 06 Nov 2025) EndedAt: 2025-11-06 12:50:56 -0500 (Thu, 06 Nov 2025) EllapsedTime: 189.5 seconds RetCode: 0 Status: OK CheckDir: preciseTADhub.Rcheck Warnings: 0