Package: pd.atdschip.tiling Version: 0.49.0 Maintainer: Kristof De Beuf MaintainerEmail: kristof.debeuf at ugent.be git_url: https://git.bioconductor.org/packages/pd.atdschip.tiling git_branch: devel git_last_commit: 32acb73 git_last_commit_date: 2025-10-29 09:33:28 -0500 (Wed, 29 Oct 2025)