Package: pasilla Version: 1.39.0 Command: /home/biocbuild/bbs-3.23-bioc/R/bin/R CMD INSTALL pasilla StartedAt: 2025-11-06 11:00:52 -0500 (Thu, 06 Nov 2025) EndedAt: 2025-11-06 11:01:24 -0500 (Thu, 06 Nov 2025) EllapsedTime: 31.5 seconds RetCode: 0 Status: OK