Package: pasilla Version: 1.39.0 Maintainer: Alejandro Reyes MaintainerEmail: alejandro.reyes.ds at gmail.com git_url: https://git.bioconductor.org/packages/pasilla git_branch: devel git_last_commit: 876d078 git_last_commit_date: 2025-10-29 09:32:31 -0500 (Wed, 29 Oct 2025)