Package: pRolocdata Version: 1.49.0 Maintainer: Lisa Breckels MaintainerEmail: lms79 at cam.ac.uk git_url: https://git.bioconductor.org/packages/pRolocdata git_branch: devel git_last_commit: ffa71ae git_last_commit_date: 2025-10-29 09:33:42 -0500 (Wed, 29 Oct 2025)