Package: orthosData Version: 1.9.0 Maintainer: Panagiotis Papasaikas MaintainerEmail: panagiotis.papasaikas at fmi.ch git_url: https://git.bioconductor.org/packages/orthosData git_branch: devel git_last_commit: ab47470 git_last_commit_date: 2025-10-29 10:05:44 -0500 (Wed, 29 Oct 2025)