Package: nmrdata Version: 1.1.0 Command: /home/biocbuild/bbs-3.23-bioc/R/bin/R CMD build --keep-empty-dirs --no-resave-data nmrdata StartedAt: 2025-11-06 11:33:34 -0500 (Thu, 06 Nov 2025) EndedAt: 2025-11-06 11:33:55 -0500 (Thu, 06 Nov 2025) EllapsedTime: 20.3 seconds RetCode: 0 Status: OK PackageFile: nmrdata_1.1.0.tar.gz PackageFileSize: 362.1 KiB