Package: nmrdata Version: 1.1.0 Maintainer: Torben Kimhofer MaintainerEmail: tkimhofer at gmail.com git_url: https://git.bioconductor.org/packages/nmrdata git_branch: devel git_last_commit: 17a3827 git_last_commit_date: 2025-10-29 10:07:10 -0500 (Wed, 29 Oct 2025)