Package: nanotubes Version: 1.27.0 Maintainer: Malte Thodberg MaintainerEmail: maltethodberg at gmail.com git_url: https://git.bioconductor.org/packages/nanotubes git_branch: devel git_last_commit: b1ab539 git_last_commit_date: 2025-10-29 10:01:35 -0500 (Wed, 29 Oct 2025)