Package: muscData Version: 1.25.0 Command: /home/biocbuild/bbs-3.23-bioc/R/bin/R CMD INSTALL muscData StartedAt: 2025-11-06 11:00:34 -0500 (Thu, 06 Nov 2025) EndedAt: 2025-11-06 11:01:02 -0500 (Thu, 06 Nov 2025) EllapsedTime: 27.8 seconds RetCode: 0 Status: OK