Package: muscData Version: 1.25.0 Maintainer: Helena L. Crowell MaintainerEmail: helena.crowell at uzh.ch git_url: https://git.bioconductor.org/packages/muscData git_branch: devel git_last_commit: 15308ed git_last_commit_date: 2025-10-29 10:01:46 -0500 (Wed, 29 Oct 2025)