Package: multiWGCNAdata Version: 1.9.0 Maintainer: Dario Tommasini MaintainerEmail: dtommasini0 at gmail.com git_url: https://git.bioconductor.org/packages/multiWGCNAdata git_branch: devel git_last_commit: 1e66c88 git_last_commit_date: 2025-10-29 10:05:47 -0500 (Wed, 29 Oct 2025)