Package: mtbls2 Version: 1.41.0 Command: /home/biocbuild/bbs-3.23-bioc/R/bin/R CMD build --keep-empty-dirs --no-resave-data mtbls2 StartedAt: 2025-11-06 11:32:09 -0500 (Thu, 06 Nov 2025) EndedAt: 2025-11-06 11:33:24 -0500 (Thu, 06 Nov 2025) EllapsedTime: 75.1 seconds RetCode: 0 Status: OK PackageFile: mtbls2_1.41.0.tar.gz PackageFileSize: 183.1 MiB