Package: mtbls2 Version: 1.41.0 Maintainer: Steffen Neumann MaintainerEmail: sneumann at ipb-halle.de git_url: https://git.bioconductor.org/packages/mtbls2 git_branch: devel git_last_commit: 7de31ee git_last_commit_date: 2025-10-29 09:57:00 -0500 (Wed, 29 Oct 2025)