Package: msqc1 Version: 1.39.0 Maintainer: Christian Panse MaintainerEmail: cp at fgcz.ethz.ch git_url: https://git.bioconductor.org/packages/msqc1 git_branch: devel git_last_commit: ecf7b45 git_last_commit_date: 2025-10-29 09:57:51 -0500 (Wed, 29 Oct 2025)