Package: msdata Version: 0.51.0 Command: /home/biocbuild/bbs-3.23-bioc/R/bin/R CMD INSTALL msdata StartedAt: 2025-11-06 10:55:14 -0500 (Thu, 06 Nov 2025) EndedAt: 2025-11-06 10:55:30 -0500 (Thu, 06 Nov 2025) EllapsedTime: 16.1 seconds RetCode: 0 Status: OK