Package: msdata Version: 0.51.0 Command: /home/biocbuild/bbs-3.23-bioc/R/bin/R CMD build --keep-empty-dirs --no-resave-data msdata StartedAt: 2025-11-06 11:31:21 -0500 (Thu, 06 Nov 2025) EndedAt: 2025-11-06 11:32:12 -0500 (Thu, 06 Nov 2025) EllapsedTime: 51.6 seconds RetCode: 0 Status: OK PackageFile: msdata_0.51.0.tar.gz PackageFileSize: 426.4 MiB