Package: msdata Version: 0.51.0 Maintainer: Steffen Neumann , Laurent Gatto MaintainerEmail: laurent.gatto at uclouvain.be git_url: https://git.bioconductor.org/packages/msdata git_branch: devel git_last_commit: 84c76ed git_last_commit_date: 2025-10-29 09:31:19 -0500 (Wed, 29 Oct 2025)