Package: msd16s Version: 1.31.0 Command: /home/biocbuild/bbs-3.23-bioc/R/bin/R CMD INSTALL msd16s StartedAt: 2025-11-06 10:56:33 -0500 (Thu, 06 Nov 2025) EndedAt: 2025-11-06 10:56:41 -0500 (Thu, 06 Nov 2025) EllapsedTime: 7.8 seconds RetCode: 0 Status: OK